Workbook
Name I: #REF!
Name 인보이스: #REF!
Name ㅑ: #REF!

Sheet Invoice
A1: COMMERCIAL INVOICE
A2: 1.Shipper/Exporter | F2: 8.No & date of invoice
A3: FUYU PRECISION COMPONENT CO.,LTD. | F3: 1300719 | J3: 45287
A4: Lot M1, Lot F & Lot T1, Quang Chau Industrial Park, Van Trung Commune, | F4: 9.No & date of L/C
A5: Viet Yen District, Bac Giang Province, Vietnam | F5: None
A6: Roisy Liang / Email : roisy.sh.liang@fii-foxconn.com | F6: 10.L/C issuing bank
A7: Mobile : +84 398900093
A8: 2.For Account & Risk of Messrs. | F8: None
A9: ALT Co., Ltd. | F9: 11.Remarks
A10: 12F,8, Seongnam-daero 331 beon-gil, bundang-gu, seongnam-si, gyeonggi-do | F10: * Complete repair process-restocked to customer.
A11: Republic of Korea (ZIP CODE : 13558) | F11: ( RMA / F.O.C )
A12: Tel.: +82-10-4782-1103 / Fax : +82-31-605-8401
A13: 3. Consignee
A14: Same as above
A18: 4.Port of loading | E18: 5.Final of destination
A19: Hai Phong, Viet Nam | E19: Incheon
A21: 6.Carrier | E21: 7.Sailing on or about
H22: DAP KOREA
A23: 12.Marks & Numbers pkgs | E23: 13.Description of goods | F23: 14.Origin | G23: 15.Quantity/Unit | J23: 16. Unit price | L23: 17. Amount
E24: BFX-AT100 | F24: VN | G24: 1680 | J24: 58.28 | L24: =J24*G24 -> 97910.4
A25: PALLET 1 | E25: PN : T99X171.00
E27: BFX-AT100 | F27: VN | G27: 1680 | J27: 58.28 | L27: =J27*G27 -> 97910.4
A28: PALLET 2 | E28: PN : T99X171.00
E30: BFX-AT100 | F30: VN | G30: 1680 | J30: 58.28 | L30: =J30*G30 -> 97910.4
A31: PALLET 3 | E31: PN : T99X171.00
E33: BFX-AT100 | F33: VN | G33: 1680 | J33: 58.28 | L33: =J33*G33 -> 97910.4
A34: PALLET 4 | E34: PN : T99X171.00
E36: BFX-AT100 | F36: VN | G36: 1680 | J36: 58.28 | L36: =J36*G36 -> 97910.4
A37: PALLET 5 | E37: PN : T99X171.00
E39: BFX-AT100 | F39: VN | G39: 756 | J39: 58.28 | L39: =J39*G39 -> 44059.68
A40: PALLET 6 | E40: PN : T99X171.00
E42: TOTAL | G42: =SUM(G24:G41) -> 9156 | L42: =SUM(L24:L41) -> 533611.68
E52: Signed by | F52: Fuyu Precision Component Co.,Ltd

Sheet PackingList
A1: PACKING LIST
A2: 1.Shipper/Exporter | F2: 8.No & date of invoice
A3: =[1]Invoice!A3 -> FUYU PRECISION COMPONENT CO.,LTD. | F3: =+Invoice!F3 -> 1300719 | H3: =+Invoice!J3 -> 45287
A4: =+Invoice!A4 -> Lot M1, Lot F & Lot T1, Quang Chau Industrial Park, Van Trung Commune, | F4: 9.No & date of L/C
A5: =[1]Invoice!A5 -> Viet Yen District, Bac Giang Province, Vietnam
A6: =[1]Invoice!A6 -> Roisy Liang / Email : roisy.sh.liang@fii-foxconn.com
A7: =[1]Invoice!A7 -> Mobile : +84 398900093
A8: 2.For Account & Risk of Messrs. | F8: 10.L/C issuing bank
A9: =[1]Invoice!A9 -> ALT Co., Ltd.
A10: =+Invoice!A10 -> 12F,8, Seongnam-daero 331 beon-gil, bundang-gu, seongnam-si, gyeonggi-do | F10: 11.Remarks
A11: +Invoice!A11 | F11: =[1]Invoice!F10 -> * Complete repair process-restocked to customer.
A12: =+Invoice!A12 -> Tel.: +82-10-4782-1103 / Fax : +82-31-605-8401 | F12: =[1]Invoice!F11 -> ( RMA / F.O.C )
A13: 3.Notify party | F13: SEAL NO : 별지 참고
A14: Same as above
A18: 4.Port of loading | E18: 5.Final of destination
A19: =[1]Invoice!A19 -> Hai Phong, Viet Nam | E19: =[1]Invoice!E19 -> Incheon
A21: 6.Carrier | E21: 7.Sailing on or about
A23: 12.Marks and Numbers | E23: 13.Description of goods | F23: 14.Q'ty/Unit | G23: 15.Net weight | I23: 16.Gross weight | J23: 17.Measurement
E24: BFX-AT100 | F24: 1680 | G24: =0.5*F24 -> 840 | I24: =+G24+40*3+10 -> 970
A25: PALLET 1 | E25: PN : T99X171.00
E27: =+Invoice!E27 -> BFX-AT100 | F27: 1680 | G27: =0.5*F27 -> 840 | I27: =+G27+40*3+10 -> 970
A28: PALLET 2 | E28: =+Invoice!E28 -> PN : T99X171.00
E30: BFX-AT100 | F30: 1680 | G30: =0.5*F30 -> 840 | I30: =+G30+40*3+10 -> 970
A31: PALLET 3 | E31: PN : T99X171.00
E33: BFX-AT100 | F33: 1680 | G33: =0.5*F33 -> 840 | I33: =+G33+40*3+10 -> 970
A34: PALLET 4 | E34: PN : T99X171.00
E36: BFX-AT100 | F36: 1680 | G36: =0.5*F36 -> 840 | I36: =+G36+40*3+10 -> 970
A37: PALLET 5 | E37: PN : T99X171.00
E39: BFX-AT100 | F39: 756 | G39: =0.5*F39 -> 378 | I39: =+G39+18*3+10 -> 442
A40: PALLET 6 | E40: PN : T99X171.00
E42: TOTAL | F42: =SUM(F24:F41) -> 9156 | G42: =SUM(G24:H41) -> 4578 | H42: KG | I42: =SUM(I24:I41) -> 5292 | J42: 6
A44: ** SN 별지 참고 **
F52: Signed by | G52: Fuyu Precision Component Co.,Ltd

Sheet Summary
A1: Model | B1: Pallet# | C1: Lot | D1: SSN qty
A2: T99X171.00 | B2: UPL231222001 | C2: 8 | D2: 697
C3: 9 | D3: 983
B4: UPL231223003 | C4: 8 | D4: 370
C5: 9 | D5: 585
C6: 10 | D6: 725
B7: UPL231224001 | C7: 8 | D7: 25
C8: 9 | D8: 28
C9: 10 | D9: 1627
B10: UPL231224002 | C10: 8 | D10: 7
C11: 9 | D11: 12
C12: 10 | D12: 1661
B13: UPL231225002 | C13: 8 | D13: 2
C14: 9 | D14: 1
C15: 10 | D15: 1677
B16: UPL231225001 | C16: 8 | D16: 1
C17: 10 | D17: 755
B18: Total: | D18: =SUM(D2:D17) -> 9156
A20: Model | B20: Lot | C20: Qty
A21: T99X171.00 | B21: 8 | C21: 1102
A22: T99X171.00 | B22: 9 | C22: 1609
A23: T99X171.00 | B23: 10 | C23: 6445

Sheet Pallet 1- 1680pcs
A1: SERIAL_NUMBER | B1: Model | C1: SHIPPING SN | D1: DN | E1: PALLET_NO | F1: CARTON_NO | G1: Lot#
A2: D41B81FF1A02 | B2: T99X171.00 | C2: 2149688001202101226813 | D2: 5440100295 | E2: UPL231222001 | F2: UCT231222002 | G2: 9
A3: D41B81FF5247 | B3: T99X171.00 | C3: 2149688001202101236880 | D3: 5440100295 | E3: UPL231222001 | F3: UCT231221019 | G3: 9
A4: 5C3A45B437BF | B4: T99X171.00 | C4: 2149688001202005050589 | D4: 5440100295 | E4: UPL231222001 | F4: UCT231221019 | G4: 8
A5: B4B5B6FFDED8 | B5: T99X171.00 | C5: 2149688001202108127482 | D5: 5440100295 | E5: UPL231222001 | F5: UCT231221019 | G5: 8
A6: 28CDC4FDA7D6 | B6: T99X171.00 | C6: 2149688001202009087715 | D6: 5440100295 | E6: UPL231222001 | F6: UCT231221019 | G6: 9
A7: 28CDC4FB9AED | B7: T99X171.00 | C7: 2149688001202005141297 | D7: 5440100295 | E7: UPL231222001 | F7: UCT231222002 | G7: 8
A8: 28CDC4FB6C93 | B8: T99X171.00 | C8: 2149688001202005126601 | D8: 5440100295 | E8: UPL231222001 | F8: UCT231222004 | G8: 9
A9: 28CDC4FBC3D3 | B9: T99X171.00 | C9: 2149688001202005146332 | D9: 5440100295 | E9: UPL231222001 | F9: UCT231222002 | G9: 8
A10: 28CDC409B9B7 | B10: T99X171.00 | C10: 2149688001202005096393 | D10: 5440100295 | E10: UPL231222001 | F10: UCT231222002 | G10: 9
A11: 28CDC4FA6954 | B11: T99X171.00 | C11: 2149688001202101115720 | D11: 5440100295 | E11: UPL231222001 | F11: UCT231222002 | G11: 8
A12: B4B5B6FF3332 | B12: T99X171.00 | C12: 2149688001202108081615 | D12: 5440100295 | E12: UPL231222001 | F12: UCT231222002 | G12: 8
A13: D41B81FF1908 | B13: T99X171.00 | C13: 2149688001202101223364 | D13: 5440100295 | E13: UPL231222001 | F13: UCT231222002 | G13: 9
... A1681: D41B81FF9691 | B1681: T99X171.00 | C1681: 2149688001202101251631 | D1681: 5440100295 | E1681: UPL231222001 | F1681: UCT231221008 | G1681: 9

Sheet Pallet 2-1680pcs
A1: SERIAL_NUMBER | B1: Model | C1: SHIPPING SN | D1: DN | E1: PALLET_NO | F1: CARTON_NO | G1: Lot#
A2: 4CEBBDB06AD4 | B2: T99X171.00 | C2: 2149688001202001036052 | D2: 5440100295 | E2: UPL231223003 | F2: UCT231223008 | G2: 10
A3: 405BD8AD27CE | B3: T99X171.00 | C3: 2149688001201909051001 | D3: 5440100295 | E3: UPL231223003 | F3: UCT231223008 | G3: 10
A4: 405BD8E2E89C | B4: T99X171.00 | C4: 2149688001201909081612 | D4: 5440100295 | E4: UPL231223003 | F4: UCT231223007 | G4: 10
A5: 405BD8AD6223 | B5: T99X171.00 | C5: 2149688001201909058981 | D5: 5440100295 | E5: UPL231223003 | F5: UCT231223008 | G5: 10
A6: 4023432A4888 | B6: T99X171.00 | C6: 2149688001201904030294 | D6: 5440100295 | E6: UPL231223003 | F6: UCT231223008 | G6: 10
A7: ACD5648AB13C | B7: T99X171.00 | C7: 2149688001201904028493 | D7: 5440100295 | E7: UPL231223003 | F7: UCT231223007 | G7: 10
A8: 405BD8AD5AFB | B8: T99X171.00 | C8: 2149688001201909054191 | D8: 5440100295 | E8: UPL231223003 | F8: UCT231223008 | G8: 10
A9: ACD5648A6D47 | B9: T99X171.00 | C9: 2149688001201904011096 | D9: 5440100295 | E9: UPL231223003 | F9: UCT231223007 | G9: 10
A10: ACD5648A7F8F | B10: T99X171.00 | C10: 2149688001201904015776 | D10: 5440100295 | E10: UPL231223003 | F10: UCT231223009 | G10: 10
A11: E86F388ACF5E | B11: T99X171.00 | C11: 2149688001201909125250 | D11: 5440100295 | E11: UPL231223003 | F11: UCT231223009 | G11: 10
A12: 405BD8E2F96B | B12: T99X171.00 | C12: 2149688001201909085737 | D12: 5440100295 | E12: UPL231223003 | F12: UCT231223011 | G12: 10
A13: E86F38532D44 | B13: T99X171.00 | C13: 2149688001201909104178 | D13: 5440100295 | E13: UPL231223003 | F13: UCT231223008 | G13: 10
... A1681: B4B5B6FDFD0A | B1681: T99X171.00 | C1681: 2149688001202108005121 | D1681: 5440100295 | E1681: UPL231223003 | F1681: UCT231223015 | G1681: 9

Sheet Pallet 3- 1680pcs
A1: SERIAL_NUMBER | B1: Model | C1: SHIPPING SN | D1: DN | E1: PALLET_NO | F1: CARTON_NO | G1: Lot#
A2: 4023438BC332 | B2: T99X171.00 | C2: 2149688001201908023307 | D2: 5440100295 | E2: UPL231224001 | F2: UCT231224016 | G2: 10
A3: 405BD8247D19 | B3: T99X171.00 | C3: 2149688001201908082369 | D3: 5440100295 | E3: UPL231224001 | F3: UCT231223037 | G3: 10
A4: 4023432A5F52 | B4: T99X171.00 | C4: 2149688001201904036128 | D4: 5440100295 | E4: UPL231224001 | F4: UCT231223023 | G4: 10
A5: B068E6C3242F | B5: T99X171.00 | C5: 2149688001201904009573 | D5: 5440100295 | E5: UPL231224001 | F5: UCT231223023 | G5: 10
A6: ACD5648A6D30 | B6: T99X171.00 | C6: 2149688001201904011073 | D6: 5440100295 | E6: UPL231224001 | F6: UCT231223023 | G6: 10
A7: 405BD8E2E091 | B7: T99X171.00 | C7: 2149688001201909083686 | D7: 5440100295 | E7: UPL231224001 | F7: UCT231223023 | G7: 10
A8: 4023438B9000 | B8: T99X171.00 | C8: 2149688001201908006304 | D8: 5440100295 | E8: UPL231224001 | F8: UCT231223025 | G8: 10
A9: 4023438BCCC6 | B9: T99X171.00 | C9: 2149688001201908021147 | D9: 5440100295 | E9: UPL231224001 | F9: UCT231223024 | G9: 10
A10: 405BD8AD0F43 | B10: T99X171.00 | C10: 2149688001201909035100 | D10: 5440100295 | E10: UPL231224001 | F10: UCT231223024 | G10: 10
A11: 405BD8AD0B26 | B11: T99X171.00 | C11: 2149688001201909042486 | D11: 5440100295 | E11: UPL231224001 | F11: UCT231224015 | G11: 10
A12: B068E6C30630 | B12: T99X171.00 | C12: 2149688001201904001894 | D12: 5440100295 | E12: UPL231224001 | F12: UCT231224017 | G12: 10
A13: ACD5648A699E | B13: T99X171.00 | C13: 2149688001201904010159 | D13: 5440100295 | E13: UPL231224001 | F13: UCT231223024 | G13: 10
... A1681: 28CDC45CC65B | B1681: T99X171.00 | C1681: 2149688001202005100188 | D1681: 5440100295 | E1681: UPL231224001 | F1681: UCT231223025 | G1681: 8

Sheet Pallet 4- 1680pcs
A1: SERIAL_NUMBER | B1: Model | C1: SHIPPING SN | D1: DN | E1: PALLET_NO | F1: CARTON_NO | G1: Lot#
A2: 1CBFC056BE6C | B2: T99X171.00 | C2: 2149688001202005025262 | D2: 5440100295 | E2: UPL231224002 | F2: UCT231224038 | G2: 10
A3: 405BD8E2C9DC | B3: T99X171.00 | C3: 2149688001201909075389 | D3: 5440100295 | E3: UPL231224002 | F3: UCT231224028 | G3: 10
A4: B068E6C322BA | B4: T99X171.00 | C4: 2149688001201904009200 | D4: 5440100295 | E4: UPL231224002 | F4: UCT231224028 | G4: 10
A5: 405BD8AD2400 | B5: T99X171.00 | C5: 2149688001201909045850 | D5: 5440100295 | E5: UPL231224002 | F5: UCT231224032 | G5: 10
A6: 405BD8246A5F | B6: T99X171.00 | C6: 2149688001201908078208 | D6: 5440100295 | E6: UPL231224002 | F6: UCT231224063 | G6: 10
A7: 402343E0714D | B7: T99X171.00 | C7: 2149688001201908044340 | D7: 5440100295 | E7: UPL231224002 | F7: UCT231224028 | G7: 10
A8: D81265D04FB9 | B8: T99X171.00 | C8: 2149688001202001081833 | D8: 5440100295 | E8: UPL231224002 | F8: UCT231224037 | G8: 10
A9: D8126508BE04 | B9: T99X171.00 | C9: 2149688001202001052410 | D9: 5440100295 | E9: UPL231224002 | F9: UCT231224032 | G9: 10
A10: D812650893C7 | B10: T99X171.00 | C10: 2149688001202001054551 | D10: 5440100295 | E10: UPL231224002 | F10: UCT231224040 | G10: 10
A11: ACD5648A6E4C | B11: T99X171.00 | C11: 2149688001201904011357 | D11: 5440100295 | E11: UPL231224002 | F11: UCT231224040 | G11: 10
A12: B068E6C310EA | B12: T99X171.00 | C12: 2149688001201904004640 | D12: 5440100295 | E12: UPL231224002 | F12: UCT231224044 | G12: 10
A13: E86F38CA216A | B13: T99X171.00 | C13: 2149688001201909146877 | D13: 5440100295 | E13: UPL231224002 | F13: UCT231224033 | G13: 10
... A1681: 5C3A4533995B | B1681: T99X171.00 | C1681: 2149688001202005048100 | D1681: 5440100295 | E1681: UPL231224002 | F1681: UCT231224042 | G1681: 8

Sheet Pallet 5-1680pcs scrap
A1: SERIAL_NUMBER | B1: Model | C1: SHIPPING SN | D1: DN | E1: PALLET_NO | F1: CARTON_NO | G1: Lot#
A2: 405BD8244569 | B2: T99X171.00 | C2: 2149688001201908068241 | D2: 5440100295 | E2: UPL231225002 | F2: UCT231225025 | G2: 10
A3: 405BD86D79E3 | B3: T99X171.00 | C3: 2149688001201909026628 | D3: 5440100295 | E3: UPL231225002 | F3: UCT231225015 | G3: 10
A4: D8126508A265 | B4: T99X171.00 | C4: 2149688001202001053611 | D4: 5440100295 | E4: UPL231225002 | F4: UCT231225020 | G4: 10
A5: 405BD8E294E7 | B5: T99X171.00 | C5: 2149688001201909060529 | D5: 5440100295 | E5: UPL231225002 | F5: UCT231225022 | G5: 10
A6: 402343CD2B82 | B6: T99X171.00 | C6: 2149688001201908035075 | D6: 5440100295 | E6: UPL231225002 | F6: UCT231225015 | G6: 10
A7: 405BD8AD35B0 | B7: T99X171.00 | C7: 2149688001201909040491 | D7: 5440100295 | E7: UPL231225002 | F7: UCT231225032 | G7: 10
A8: 1CBFC0568EF2 | B8: T99X171.00 | C8: 2149688001202005012072 | D8: 5440100295 | E8: UPL231225002 | F8: UCT231225022 | G8: 10
A9: 4023432A4F7F | B9: T99X171.00 | C9: 2149688001201904032077 | D9: 5440100295 | E9: UPL231225002 | F9: UCT231225025 | G9: 10
A10: ACD5648A6FA9 | B10: T99X171.00 | C10: 2149688001201904011706 | D10: 5440100295 | E10: UPL231225002 | F10: UCT231225026 | G10: 10
A11: 1CBFC01251CA | B11: T99X171.00 | C11: 2149688001202003072202 | D11: 5440100295 | E11: UPL231225002 | F11: UCT231225020 | G11: 10
A12: 405BD8E2B824 | B12: T99X171.00 | C12: 2149688001201909072699 | D12: 5440100295 | E12: UPL231225002 | F12: UCT231225032 | G12: 10
A13: 4023432A5E85 | B13: T99X171.00 | C13: 2149688001201904035923 | D13: 5440100295 | E13: UPL231225002 | F13: UCT231225022 | G13: 10
... A1681: 5C3A45D548F6 | B1681: T99X171.00 | C1681: 2149688001202005057132 | D1681: 5440100295 | E1681: UPL231225002 | F1681: UCT231224066 | G1681: 8

Sheet Pallet 6-756pcs
A1: SERIAL_NUMBER | B1: Model | C1: SHIPPING SN | D1: DN | E1: PALLET_NO | F1: CARTON_NO | G1: Lot#
A2: 1CBFC0124658 | B2: T99X171.00 | C2: 2149688001202003072414 | D2: 5440100295 | E2: UPL231225001 | F2: UCT231225045 | G2: 10
A3: 405BD8E2A80D | B3: T99X171.00 | C3: 2149688001201909064163 | D3: 5440100295 | E3: UPL231225001 | F3: UCT231225033 | G3: 10
A4: 405BD8AD6204 | B4: T99X171.00 | C4: 2149688001201909059347 | D4: 5440100295 | E4: UPL231225001 | F4: UCT231225033 | G4: 10
A5: 405BD82448DB | B5: T99X171.00 | C5: 2149688001201908071046 | D5: 5440100295 | E5: UPL231225001 | F5: UCT231225050 | G5: 10
A6: 402343E08545 | B6: T99X171.00 | C6: 2149688001201908049728 | D6: 5440100295 | E6: UPL231225001 | F6: UCT231225033 | G6: 10
A7: B068E6C319F8 | B7: T99X171.00 | C7: 2149688001201904006958 | D7: 5440100295 | E7: UPL231225001 | F7: UCT231225045 | G7: 10
A8: 405BD86D8572 | B8: T99X171.00 | C8: 2149688001201909027212 | D8: 5440100295 | E8: UPL231225001 | F8: UCT231225043 | G8: 10
A9: 8CC84BBD2EA4 | B9: T99X171.00 | C9: 2149688001202003034308 | D9: 5440100295 | E9: UPL231225001 | F9: UCT231225043 | G9: 10
A10: 8CC84BBD30FA | B10: T99X171.00 | C10: 2149688001202003033870 | D10: 5440100295 | E10: UPL231225001 | F10: UCT231225045 | G10: 10
A11: E86F388ACB05 | B11: T99X171.00 | C11: 2149688001201909128345 | D11: 5440100295 | E11: UPL231225001 | F11: UCT231225043 | G11: 10
A12: 40234355E70A | B12: T99X171.00 | C12: 2149688001201908002843 | D12: 5440100295 | E12: UPL231225001 | F12: UCT231225043 | G12: 10
A13: 402343E0A895 | B13: T99X171.00 | C13: 2149688001201908063103 | D13: 5440100295 | E13: UPL231225001 | F13: UCT231225043 | G13: 10
... A757: 38D57AD97D78 | B757: T99X171.00 | C757: 2149688001202201169774 | D757: 5440100295 | E757: UPL231225001 | F757: UCT231225042 | G757: 8
